Workbook

Sheet librarySubmissionForm
A2: =A5+A14+A26+A32+A37+A42+A47+A52 -> 1
A3: =IF(A2=0, "READY TO SUBMIT", "Form is not ready to submit! There " & IF(A2=1, "is ", "are ") & A2 & " remaining field" & IF(A2=1, ".", "s.")) -> Form is not ready to submit! There is 1 remaining field.
A4: Have You Returned a Signed Quote: | C4: . | D4: Quote must be signed and returned before submitting
A5: =COUNTBLANK(B4) -> 1 | C5: .
A6: Quote Details | B6: . | C6: .
A7: SAGC quotation#: | C7: . | D7: Quote number will be in the formad SAGCQA1234-1 or SAGCQA1234-1A
A8: Purchase Order/Cost Code#: | C8: . | D8: PO must be provided before continuing
A9: Name: | C9: .
A10: Institute: | C10: .
A11: Submission Date: | C11: .
A12: Email address: | C12: .
A13: Contact Number: | C13: .
A14: =IF(B4="Y",COUNTBLANK(B7:B8),0)+IF(B8<>"",COUNTBLANK(B9:B13),0) -> 0 | B14: . | C14: .
A15: Library Details | B15: . | C15: units
A16: Have you pooled your libraries into a single tube (per run/lane): | C16: . | D16: Libraries must be pooled into a single tube
A17: Library Preparation Kit: | C17: . | D17: Provide name of the prep kit. If you used a non-llumina kit, provide a link to/pdf of the protocol if possible.
A18: Species: | C18: .
A19: Quantification Method: | C19: . | D19: =IF(B19<>"Other","Please indicate which quantification method was used to calculate sample quantities. e.g. Nanodrop, Qubit (Qubit preferred):","Please specify which quantification method was used at in the notes at the bottom of the form." ) -> Please indicate which quantification method was used to calculate sample quantities. e.g. Nanodrop, Qubit (Qubit preferred):
A20: Final buffer used: | C20: .
A21: Library Volume Supplied: | C21: uL | D21: Provide library volume. Units are assumed to be in microlitres
A22: Library Concentraion: | D22: Provide concentration AND units.Give nM (with fragment size) or ng/uL | E22: =IF(Config!$D$24="INVALID","INVALID VALUE PLEASE FIX","")
A23: Library Fragment Size: | C23: nt | D23: If nM selected for concentration, please provide fragment size
A24: Low Diversity Library: | C24: . | D24: If your library has low divrsity, you can specify spike in/phiX control library
A25: PhiX/MGI Control Library % Requested: | C25: . | D25: Enter a whole number from 0-50. if you prefer genomics team to choose, select "recommended"
A26: =IF(B8="",0,IF(B16="Y",COUNTBLANK(B16:C25)-IF(C22<>"nM",COUNTBLANK(B23),0)-IF(B24<>"Y",COUNTBLANK(B25),0),COUNTBLANK(B16))) -> 0 | B26: . | C26: .
A27: Sequencing Lengths: | B27: . | C27: units
A28: Read1 Length: | C28: bp | D28: How many bases will be sequenced in read 1
A29: Read2 Length: | C29: bp | D29: How many bases will be sequenced in read 2
A30: i7 Barcode Length: | C30: bp | D30: Please specify number of bases in i7 barcode used for demultiplexing only. Do not include UMI length
A31: i5 Barcode Length: | C31: bp | D31: Please specify number of bases in i5 barcode used for demultiplexing. Do not include UMI length. I7 and i5 baarcode lengths should be equal
A32: =IF(B16="Y",COUNTBLANK(B28:B31),0) -> 0 | C32: .
A33: UMIs | B33: . | C33: .
A34: Does your library have UMIs?: | C34: .
A35: Specify which barcode your UMIs are on: | C35: . | D35: Please select either i7 or i5
A36: UMI length: | C36: bp
A37: =IF(B16="Y",COUNTBLANK(B34)+IF(B34="Y",COUNTBLANK(B35:B36),0),0) -> 0 | B37: . | C37: .
A38: Dark Cycles | B38: . | C38: .
A39: Does your library have dark cycles?: | C39: .
A40: dark Cycles Read 1: | C40: . | D40: eg: 1,3-5,7,10-15
A41: dark Cycles Read 2: | C41: . | D41: eg: 1,3-5,7,10-15
A42: =IF(B16="Y",COUNTBLANK(B39)+IF(B39="Y",COUNTBLANK(B40:B41),0),0) -> 0 | B42: . | C42: .
A43: Illumina Sequencing Only | B43: . | C43: units
A44: Illumina ONLY - Custom Primers Required: | C44: . | D44: Enter NA if not using illumina sequencing
A45: Illumina ONLY - Custom Primer Concentration Provided: | C45: uL
A46: Illumina ONLY - Custom Primer Well Position's in Illumina Sequencing Cartridge [standard:12,13,14] OR [custom:18,19,20]: | C46: . | D46: Enter 'standard' if you wish to use the cartridge wells 12,13,14 and 'custom' if you wish to use cartridge wells 18,19,20
A47: =IF(B16="Y",IF(B44="Y",COUNTBLANK(B45:B46),0),0) -> 0 | B47: . | C47: .
A48: Ethics: | B48: . | C48: .
A49: Do you have ethics approval for these samples: | C49: . | D49: =IF(B49="","Enter NA if ethics not required",IF(B49="N", "We do not accept samples without ethics aprovals. Please contact SAGC staff.", "")) -> Enter NA if ethics not required
A50: Are the samples De-identified | C50: . | D50: =IF(B50="","EnterNA if not required",IF(B50="N", "Samples must be de-identified. Please contact SAGC staff.", "")) -> EnterNA if not required
A51: Are the samples of Indigenous origin: | C51: . | D51: =IF(B50="","EnterNA if not relevant",IF(B51="Y","Please contact SAGC staff for special terms regarding indigenous data management and other ethics requirement.","")) -> EnterNA if not relevant
A52: =IF(B16="Y",COUNTBLANK(B49:B51),0) -> 0 | C52: .
A53: Notes: | B53: . | C53: .
C54: . | D54: eg. If quantification method was not one of the options, you can select "other" and provide it here.

Sheet SampleDetails
A1: Please only use alphanumeric characters and "-" or "_" as separators in the Sample Name field below (no spaces or other characters).
A2: Please list the samples in each pool and the indices used.
A4: PLEASE RETURN AN ELECTRONIC COPY + PRINT COMPLETED FORM AND INCLUDE WITH SAMPLE SUBMISSION
A6: Pool Name | B6: Sample Name | C6: Index (i7) ID Name + plate + well | D6: Index bp sequence (i7) | E6: Index (i5) ID Name2 + plate + well | F6: Index bp sequence (i5) | G6: Anticipated % coverage
B7: ≤ 12 alpha/numeric characters "_" instead of a space No other special characters | G7: ("N/A" for equimolar pooling)

Sheet Config
A1: Questions | B1: Link | C1: Header | D1: Example Answers
A2: . | B2: . | C2: form | D2: library
A3: =librarySubmissionForm!A4 -> Have You Returned a Signed Quote: | B3: =librarySubmissionForm!B4 -> 0 | C3: hasSignedQuote | D3: =IF(B3=0,"",B3)
D4: =IF(B4=0,"",B4)
A5: =librarySubmissionForm!A6 -> Quote Details | B5: =librarySubmissionForm!B6 -> .
A6: =librarySubmissionForm!A7 -> SAGC quotation#: | B6: =librarySubmissionForm!B7 -> 0 | C6: quote | D6: =IF(B6=0,"",B6)
A7: =librarySubmissionForm!A8 -> Purchase Order/Cost Code#: | B7: =librarySubmissionForm!B8 -> 0 | C7: pocc | D7: =IF(B7=0,"",B7)
A8: =librarySubmissionForm!A9 -> Name: | B8: =librarySubmissionForm!B9 -> 0 | C8: name | D8: =IF(B8=0,"",B8)
A9: =librarySubmissionForm!A10 -> Institute: | B9: =librarySubmissionForm!B10 -> 0 | C9: institute | D9: =IF(B9=0,"",B9)
A10: =librarySubmissionForm!A11 -> Submission Date: | B10: =librarySubmissionForm!B11 -> 0 | C10: date | D10: =IF(B10=0,"",B10)
A11: =librarySubmissionForm!A12 -> Email address: | B11: =librarySubmissionForm!B12 -> 0 | C11: email | D11: =IF(B11=0,"",B11)
A12: =librarySubmissionForm!A13 -> Contact Number: | B12: =librarySubmissionForm!B13 -> 0 | C12: contact | D12: =IF(B12=0,"",B12)
D13: =IF(B13=0,"",B13)
A14: =librarySubmissionForm!A15 -> Library Details | B14: =librarySubmissionForm!B15 -> . | D14: =IF(B14=0,"",B14) -> .
A15: =librarySubmissionForm!A16 -> Have you pooled your libraries into a single tube (per run/lane): | B15: =librarySubmissionForm!B16 -> 0 | C15: isPooled | D15: =IF(B15=0,"",B15)
A16: =librarySubmissionForm!A17 -> Library Preparation Kit: | B16: =librarySubmissionForm!B17 -> 0 | C16: kit | D16: =IF(B16=0,"",B16)
A17: =librarySubmissionForm!A18 -> Species: | B17: =librarySubmissionForm!B18 -> 0 | C17: species | D17: =IF(B17=0,"",B17)
A18: =librarySubmissionForm!A19 -> Quantification Method: | B18: =librarySubmissionForm!B19 -> 0 | C18: libQuantificationMethod | D18: =IF(B18=0,"",B18)
A19: =librarySubmissionForm!A20 -> Final buffer used: | B19: =librarySubmissionForm!B20 -> 0 | C19: buffer | D19: =IF(B19=0,"",B19)
A20: =librarySubmissionForm!A21 -> Library Volume Supplied: | B20: =librarySubmissionForm!B21 -> 0 | C20: libVolume | D20: =IF(B20=0,"",B20)
A21: =librarySubmissionForm!A22 -> Library Concentraion: | B21: =librarySubmissionForm!B22 -> 0 | C21: libConcentration | D21: =IF(B21=0,"",B21)
A22: =librarySubmissionForm!A23 -> Library Fragment Size: | B22: =IF(B55=0,$A$60,IF(B55="ng/uL",$A$60,IF(B55="nM",librarySubmissionForm!B23,"INVALID_UNITS"))) -> devNA | C22: libFragSize | D22: =IF(B22=0,"",B22) -> devNA
A23: =librarySubmissionForm!A24 -> Low Diversity Library: | B23: =librarySubmissionForm!B24 -> 0 | C23: hasLowDiversity | D23: =IF(B23=0,"",B23)
A24: =librarySubmissionForm!A25 -> PhiX/MGI Control Library % Requested: | B24: =IF(B23=0,$A$60,IF(B23="Y",librarySubmissionForm!B25,$A$60)) -> devNA | C24: controlLibRequested | D24: =IF(B24="","",B24) -> devNA
D25: =IF(B25=0,"",B25)
A26: =librarySubmissionForm!A27 -> Sequencing Lengths: | B26: =librarySubmissionForm!B27 -> . | D26: =IF(B26=0,"",B26) -> .
A27: =librarySubmissionForm!A28 -> Read1 Length: | B27: =librarySubmissionForm!B28 -> 0 | C27: read1Len | D27: =IF(B27=0,"",B27)
A28: =librarySubmissionForm!A29 -> Read2 Length: | B28: =librarySubmissionForm!B29 -> 0 | C28: read2Len | D28: =IF(B28=0,"",B28)
A29: =librarySubmissionForm!A30 -> i7 Barcode Length: | B29: =librarySubmissionForm!B30 -> 0 | C29: i7Len | D29: =IF(B29=0,"",B29)
A30: =librarySubmissionForm!A31 -> i5 Barcode Length: | B30: =librarySubmissionForm!B31 -> 0 | C30: i5Len | D30: =IF(B30=0,"",B30)
D31: =IF(B31=0,"",B31)
A32: =librarySubmissionForm!A33 -> UMIs | B32: =librarySubmissionForm!B33 -> . | D32: =IF(B32=0,"",B32) -> .
A33: =librarySubmissionForm!A34 -> Does your library have UMIs?: | B33: =librarySubmissionForm!B34 -> 0 | C33: umis_yn | D33: =IF(B33=0,"",B33)
A34: =librarySubmissionForm!A35 -> Specify which barcode your UMIs are on: | B34: =IF(B33=0,$A$60,IF(B33<>"Y",$A$60,librarySubmissionForm!B35)) -> devNA | C34: umiSide | D34: =IF(B34=0,"",B34) -> devNA
A35: =librarySubmissionForm!A36 -> UMI length: | B35: =IF(B33=0,$A$60,IF(B33<>"Y",$A$60,librarySubmissionForm!B36)) -> devNA | C35: umiLen | D35: =IF(B35=0,"",B35) -> devNA
D36: =IF(B36=0,"",B36)
A37: =librarySubmissionForm!A38 -> Dark Cycles | B37: =librarySubmissionForm!B38 -> . | D37: =IF(B37=0,"",B37) -> .
A38: =librarySubmissionForm!A39 -> Does your library have dark cycles?: | B38: =librarySubmissionForm!B39 -> 0 | C38: darkCycles_yn | D38: =IF(B38=0,"",B38)
A39: =librarySubmissionForm!A40 -> dark Cycles Read 1: | B39: =IF(B38=0,$A$60,IF(B38<>"Y",$A$60,librarySubmissionForm!B40)) -> devNA | C39: read1DarkCycles | D39: =IF(B39=0,"",B39) -> devNA
A40: =librarySubmissionForm!A41 -> dark Cycles Read 2: | B40: =IF(B38=0,$A$60,IF(B38<>"Y",$A$60,librarySubmissionForm!B41)) -> devNA | C40: read2DarkCycles | D40: =IF(B40=0,"",B40) -> devNA
D41: =IF(B41=0,"",B41)
A42: =librarySubmissionForm!A43 -> Illumina Sequencing Only | B42: =librarySubmissionForm!B43 -> . | D42: =IF(B42=0,"",B42) -> .
A43: =librarySubmissionForm!A44 -> Illumina ONLY - Custom Primers Required: | B43: =librarySubmissionForm!B44 -> 0 | C43: hasCustomPrimers | D43: =IF(B43=0,"",B43)
A44: =librarySubmissionForm!A45 -> Illumina ONLY - Custom Primer Concentration Provided: | B44: =IF(B43=0,$A$60,IF(B43<>"Y",$A$60,librarySubmissionForm!B45)) -> devNA | C44: customPrimerConcentration | D44: =IF(B44=0,"",B44) -> devNA
A45: =librarySubmissionForm!A46 -> Illumina ONLY - Custom Primer Well Position's in Illumina Sequencing Cartridge [standard:12,13,14] OR [custom:18,19,20]: | B45: =IF(B43=0,$A$60,IF(B43<>"Y",$A$60,librarySubmissionForm!B46)) -> devNA | C45: primerCartridgeWells | D45: =IF(B45=0,"",B45) -> devNA
D46: =IF(B46=0,"",B46)
A47: =librarySubmissionForm!A48 -> Ethics: | B47: =librarySubmissionForm!B48 -> . | D47: =IF(B47=0,"",B47) -> .
A48: =librarySubmissionForm!A49 -> Do you have ethics approval for these samples: | B48: =librarySubmissionForm!B49 -> 0 | C48: hasEthics | D48: =IF(B48=0,"",B48)
A49: =librarySubmissionForm!A50 -> Are the samples De-identified | B49: =librarySubmissionForm!B50 -> 0 | C49: isDeidentified | D49: =IF(B49=0,"",B49)
A50: =librarySubmissionForm!A51 -> Are the samples of Indigenous origin: | B50: =librarySubmissionForm!B51 -> 0 | C50: isIndigenous | D50: =IF(B50=0,"",B50)
D51: =IF(B51=0,"",B51)
A52: =librarySubmissionForm!A53 -> Notes: | B52: =librarySubmissionForm!B53 -> . | D52: =IF(B52=0,"",B52) -> .
A53: =librarySubmissionForm!A54 -> 0 | B53: =IF(OR(A53="",A53="Enter additional notes here"),"",A53) -> 0 | C53: clientNotes | D53: =IF(B53=0,"",B53)
D54: =IF(B54=0,"",B54)
A55: Library Concentration units | B55: =librarySubmissionForm!C22 -> 0 | C55: libConcUnits | D55: =IF(B55=0,"",B55)
A56: Library Concentration nM | B56: =IF(B55=0,0,IF(B55="nM",Config!B21,IF(B55="ng/uL",$A$60,"INVALID_UNITS"))) -> 0 | C56: libConc_nm | D56: =IF(B56=0,"",B56)
A57: Library Concentration ng/uL | B57: =IF(B55=0,0,IF(B55="ng/uL",B21,IF(B55="nM",B21*660*B22/1000000,"INVALID_UNITS"))) -> 0 | C57: libConc_ngul | D57: =IF(B57=0,"",B57)
A60: devNA

Sheet Samples
B1: Pool | C1: Name | D1: IndexName | E1: Index | F1: Index2Name | G1: Index2 | H1: libCoverage | J1: A | K1: B | L1: C | M1: D | N1: E | O1: F | P1: G
B2: {=IF(INDIRECT("SampleDetails!"&J$1&$I2)="","",INDIRECT("SampleDetails!"&J$1&$I2))} | C2: {=IF(INDIRECT("SampleDetails!"&K$1&$I2)="","",INDIRECT("SampleDetails!"&K$1&$I2))} | D2: {=IF(INDIRECT("SampleDetails!"&L$1&$I2)="","",INDIRECT("SampleDetails!"&L$1&$I2))} | E2: {=IF(INDIRECT("SampleDetails!"&M$1&$I2)="","",INDIRECT("SampleDetails!"&M$1&$I2))} | F2: {=IF(INDIRECT("SampleDetails!"&N$1&$I2)="","",INDIRECT("SampleDetails!"&N$1&$I2))} | G2: {=IF(INDIRECT("SampleDetails!"&O$1&$I2)="","",INDIRECT("SampleDetails!"&O$1&$I2))} | H2: {=IF(INDIRECT("SampleDetails!"&P$1&$I2)="","",INDIRECT("SampleDetails!"&P$1&$I2))} | I2: 8
B3: {=IF(INDIRECT("SampleDetails!"&J$1&$I3)="","",INDIRECT("SampleDetails!"&J$1&$I3))} | C3: {=IF(INDIRECT("SampleDetails!"&K$1&$I3)="","",INDIRECT("SampleDetails!"&K$1&$I3))} | D3: {=IF(INDIRECT("SampleDetails!"&L$1&$I3)="","",INDIRECT("SampleDetails!"&L$1&$I3))} | E3: {=IF(INDIRECT("SampleDetails!"&M$1&$I3)="","",INDIRECT("SampleDetails!"&M$1&$I3))} | F3: {=IF(INDIRECT("SampleDetails!"&N$1&$I3)="","",INDIRECT("SampleDetails!"&N$1&$I3))} | G3: {=IF(INDIRECT("SampleDetails!"&O$1&$I3)="","",INDIRECT("SampleDetails!"&O$1&$I3))} | H3: {=IF(INDIRECT("SampleDetails!"&P$1&$I3)="","",INDIRECT("SampleDetails!"&P$1&$I3))} | I3: =I2+1 -> 9
B4: {=IF(INDIRECT("SampleDetails!"&J$1&$I4)="","",INDIRECT("SampleDetails!"&J$1&$I4))} | C4: {=IF(INDIRECT("SampleDetails!"&K$1&$I4)="","",INDIRECT("SampleDetails!"&K$1&$I4))} | D4: {=IF(INDIRECT("SampleDetails!"&L$1&$I4)="","",INDIRECT("SampleDetails!"&L$1&$I4))} | E4: {=IF(INDIRECT("SampleDetails!"&M$1&$I4)="","",INDIRECT("SampleDetails!"&M$1&$I4))} | F4: {=IF(INDIRECT("SampleDetails!"&N$1&$I4)="","",INDIRECT("SampleDetails!"&N$1&$I4))} | G4: {=IF(INDIRECT("SampleDetails!"&O$1&$I4)="","",INDIRECT("SampleDetails!"&O$1&$I4))} | H4: {=IF(INDIRECT("SampleDetails!"&P$1&$I4)="","",INDIRECT("SampleDetails!"&P$1&$I4))} | I4: =I3+1 -> 10
B5: {=IF(INDIRECT("SampleDetails!"&J$1&$I5)="","",INDIRECT("SampleDetails!"&J$1&$I5))} | C5: {=IF(INDIRECT("SampleDetails!"&K$1&$I5)="","",INDIRECT("SampleDetails!"&K$1&$I5))} | D5: {=IF(INDIRECT("SampleDetails!"&L$1&$I5)="","",INDIRECT("SampleDetails!"&L$1&$I5))} | E5: {=IF(INDIRECT("SampleDetails!"&M$1&$I5)="","",INDIRECT("SampleDetails!"&M$1&$I5))} | F5: {=IF(INDIRECT("SampleDetails!"&N$1&$I5)="","",INDIRECT("SampleDetails!"&N$1&$I5))} | G5: {=IF(INDIRECT("SampleDetails!"&O$1&$I5)="","",INDIRECT("SampleDetails!"&O$1&$I5))} | H5: {=IF(INDIRECT("SampleDetails!"&P$1&$I5)="","",INDIRECT("SampleDetails!"&P$1&$I5))} | I5: =I4+1 -> 11
B6: {=IF(INDIRECT("SampleDetails!"&J$1&$I6)="","",INDIRECT("SampleDetails!"&J$1&$I6))} | C6: {=IF(INDIRECT("SampleDetails!"&K$1&$I6)="","",INDIRECT("SampleDetails!"&K$1&$I6))} | D6: {=IF(INDIRECT("SampleDetails!"&L$1&$I6)="","",INDIRECT("SampleDetails!"&L$1&$I6))} | E6: {=IF(INDIRECT("SampleDetails!"&M$1&$I6)="","",INDIRECT("SampleDetails!"&M$1&$I6))} | F6: {=IF(INDIRECT("SampleDetails!"&N$1&$I6)="","",INDIRECT("SampleDetails!"&N$1&$I6))} | G6: {=IF(INDIRECT("SampleDetails!"&O$1&$I6)="","",INDIRECT("SampleDetails!"&O$1&$I6))} | H6: {=IF(INDIRECT("SampleDetails!"&P$1&$I6)="","",INDIRECT("SampleDetails!"&P$1&$I6))} | I6: =I5+1 -> 12
B7: {=IF(INDIRECT("SampleDetails!"&J$1&$I7)="","",INDIRECT("SampleDetails!"&J$1&$I7))} | C7: {=IF(INDIRECT("SampleDetails!"&K$1&$I7)="","",INDIRECT("SampleDetails!"&K$1&$I7))} | D7: {=IF(INDIRECT("SampleDetails!"&L$1&$I7)="","",INDIRECT("SampleDetails!"&L$1&$I7))} | E7: {=IF(INDIRECT("SampleDetails!"&M$1&$I7)="","",INDIRECT("SampleDetails!"&M$1&$I7))} | F7: {=IF(INDIRECT("SampleDetails!"&N$1&$I7)="","",INDIRECT("SampleDetails!"&N$1&$I7))} | G7: {=IF(INDIRECT("SampleDetails!"&O$1&$I7)="","",INDIRECT("SampleDetails!"&O$1&$I7))} | H7: {=IF(INDIRECT("SampleDetails!"&P$1&$I7)="","",INDIRECT("SampleDetails!"&P$1&$I7))} | I7: =I6+1 -> 13
B8: {=IF(INDIRECT("SampleDetails!"&J$1&$I8)="","",INDIRECT("SampleDetails!"&J$1&$I8))} | C8: {=IF(INDIRECT("SampleDetails!"&K$1&$I8)="","",INDIRECT("SampleDetails!"&K$1&$I8))} | D8: {=IF(INDIRECT("SampleDetails!"&L$1&$I8)="","",INDIRECT("SampleDetails!"&L$1&$I8))} | E8: {=IF(INDIRECT("SampleDetails!"&M$1&$I8)="","",INDIRECT("SampleDetails!"&M$1&$I8))} | F8: {=IF(INDIRECT("SampleDetails!"&N$1&$I8)="","",INDIRECT("SampleDetails!"&N$1&$I8))} | G8: {=IF(INDIRECT("SampleDetails!"&O$1&$I8)="","",INDIRECT("SampleDetails!"&O$1&$I8))} | H8: {=IF(INDIRECT("SampleDetails!"&P$1&$I8)="","",INDIRECT("SampleDetails!"&P$1&$I8))} | I8: =I7+1 -> 14
B9: {=IF(INDIRECT("SampleDetails!"&J$1&$I9)="","",INDIRECT("SampleDetails!"&J$1&$I9))} | C9: {=IF(INDIRECT("SampleDetails!"&K$1&$I9)="","",INDIRECT("SampleDetails!"&K$1&$I9))} | D9: {=IF(INDIRECT("SampleDetails!"&L$1&$I9)="","",INDIRECT("SampleDetails!"&L$1&$I9))} | E9: {=IF(INDIRECT("SampleDetails!"&M$1&$I9)="","",INDIRECT("SampleDetails!"&M$1&$I9))} | F9: {=IF(INDIRECT("SampleDetails!"&N$1&$I9)="","",INDIRECT("SampleDetails!"&N$1&$I9))} | G9: {=IF(INDIRECT("SampleDetails!"&O$1&$I9)="","",INDIRECT("SampleDetails!"&O$1&$I9))} | H9: {=IF(INDIRECT("SampleDetails!"&P$1&$I9)="","",INDIRECT("SampleDetails!"&P$1&$I9))} | I9: =I8+1 -> 15
B10: {=IF(INDIRECT("SampleDetails!"&J$1&$I10)="","",INDIRECT("SampleDetails!"&J$1&$I10))} | C10: {=IF(INDIRECT("SampleDetails!"&K$1&$I10)="","",INDIRECT("SampleDetails!"&K$1&$I10))} | D10: {=IF(INDIRECT("SampleDetails!"&L$1&$I10)="","",INDIRECT("SampleDetails!"&L$1&$I10))} | E10: {=IF(INDIRECT("SampleDetails!"&M$1&$I10)="","",INDIRECT("SampleDetails!"&M$1&$I10))} | F10: {=IF(INDIRECT("SampleDetails!"&N$1&$I10)="","",INDIRECT("SampleDetails!"&N$1&$I10))} | G10: {=IF(INDIRECT("SampleDetails!"&O$1&$I10)="","",INDIRECT("SampleDetails!"&O$1&$I10))} | H10: {=IF(INDIRECT("SampleDetails!"&P$1&$I10)="","",INDIRECT("SampleDetails!"&P$1&$I10))} | I10: =I9+1 -> 16
B11: {=IF(INDIRECT("SampleDetails!"&J$1&$I11)="","",INDIRECT("SampleDetails!"&J$1&$I11))} | C11: {=IF(INDIRECT("SampleDetails!"&K$1&$I11)="","",INDIRECT("SampleDetails!"&K$1&$I11))} | D11: {=IF(INDIRECT("SampleDetails!"&L$1&$I11)="","",INDIRECT("SampleDetails!"&L$1&$I11))} | E11: {=IF(INDIRECT("SampleDetails!"&M$1&$I11)="","",INDIRECT("SampleDetails!"&M$1&$I11))} | F11: {=IF(INDIRECT("SampleDetails!"&N$1&$I11)="","",INDIRECT("SampleDetails!"&N$1&$I11))} | G11: {=IF(INDIRECT("SampleDetails!"&O$1&$I11)="","",INDIRECT("SampleDetails!"&O$1&$I11))} | H11: {=IF(INDIRECT("SampleDetails!"&P$1&$I11)="","",INDIRECT("SampleDetails!"&P$1&$I11))} | I11: =I10+1 -> 17
B12: {=IF(INDIRECT("SampleDetails!"&J$1&$I12)="","",INDIRECT("SampleDetails!"&J$1&$I12))} | C12: {=IF(INDIRECT("SampleDetails!"&K$1&$I12)="","",INDIRECT("SampleDetails!"&K$1&$I12))} | D12: {=IF(INDIRECT("SampleDetails!"&L$1&$I12)="","",INDIRECT("SampleDetails!"&L$1&$I12))} | E12: {=IF(INDIRECT("SampleDetails!"&M$1&$I12)="","",INDIRECT("SampleDetails!"&M$1&$I12))} | F12: {=IF(INDIRECT("SampleDetails!"&N$1&$I12)="","",INDIRECT("SampleDetails!"&N$1&$I12))} | G12: {=IF(INDIRECT("SampleDetails!"&O$1&$I12)="","",INDIRECT("SampleDetails!"&O$1&$I12))} | H12: {=IF(INDIRECT("SampleDetails!"&P$1&$I12)="","",INDIRECT("SampleDetails!"&P$1&$I12))} | I12: =I11+1 -> 18
B13: {=IF(INDIRECT("SampleDetails!"&J$1&$I13)="","",INDIRECT("SampleDetails!"&J$1&$I13))} | C13: {=IF(INDIRECT("SampleDetails!"&K$1&$I13)="","",INDIRECT("SampleDetails!"&K$1&$I13))} | D13: {=IF(INDIRECT("SampleDetails!"&L$1&$I13)="","",INDIRECT("SampleDetails!"&L$1&$I13))} | E13: {=IF(INDIRECT("SampleDetails!"&M$1&$I13)="","",INDIRECT("SampleDetails!"&M$1&$I13))} | F13: {=IF(INDIRECT("SampleDetails!"&N$1&$I13)="","",INDIRECT("SampleDetails!"&N$1&$I13))} | G13: {=IF(INDIRECT("SampleDetails!"&O$1&$I13)="","",INDIRECT("SampleDetails!"&O$1&$I13))} | H13: {=IF(INDIRECT("SampleDetails!"&P$1&$I13)="","",INDIRECT("SampleDetails!"&P$1&$I13))} | I13: =I12+1 -> 19
B14: {=IF(INDIRECT("SampleDetails!"&J$1&$I14)="","",INDIRECT("SampleDetails!"&J$1&$I14))} | C14: {=IF(INDIRECT("SampleDetails!"&K$1&$I14)="","",INDIRECT("SampleDetails!"&K$1&$I14))} | D14: {=IF(INDIRECT("SampleDetails!"&L$1&$I14)="","",INDIRECT("SampleDetails!"&L$1&$I14))} | E14: {=IF(INDIRECT("SampleDetails!"&M$1&$I14)="","",INDIRECT("SampleDetails!"&M$1&$I14))} | F14: {=IF(INDIRECT("SampleDetails!"&N$1&$I14)="","",INDIRECT("SampleDetails!"&N$1&$I14))} | G14: {=IF(INDIRECT("SampleDetails!"&O$1&$I14)="","",INDIRECT("SampleDetails!"&O$1&$I14))} | H14: {=IF(INDIRECT("SampleDetails!"&P$1&$I14)="","",INDIRECT("SampleDetails!"&P$1&$I14))} | I14: =I13+1 -> 20
... B725: {=IF(INDIRECT("SampleDetails!"&J$1&$I725)="","",INDIRECT("SampleDetails!"&J$1&$I725))} | C725: {=IF(INDIRECT("SampleDetails!"&K$1&$I725)="","",INDIRECT("SampleDetails!"&K$1&$I725))} | D725: {=IF(INDIRECT("SampleDetails!"&L$1&$I725)="","",INDIRECT("SampleDetails!"&L$1&$I725))} | E725: {=IF(INDIRECT("SampleDetails!"&M$1&$I725)="","",INDIRECT("SampleDetails!"&M$1&$I725))} | F725: {=IF(INDIRECT("SampleDetails!"&N$1&$I725)="","",INDIRECT("SampleDetails!"&N$1&$I725))} | G725: {=IF(INDIRECT("SampleDetails!"&O$1&$I725)="","",INDIRECT("SampleDetails!"&O$1&$I725))} | H725: {=IF(INDIRECT("SampleDetails!"&P$1&$I725)="","",INDIRECT("SampleDetails!"&P$1&$I725))} | I725: =I724+1 -> 731

Sheet Meta
A1: version | B1: 2.4

Sheet validation
A1: recommended
A2: 0
A3: 1
A4: 2
A5: 3
A6: 4
A7: 5
A8: 6
A9: 7
A10: 8
A11: 9
A12: 10
A13: 11
... A52: 50
