Workbook

Sheet sampleSubmissionForm
A2: =A5+A14+A17+A23+A28 -> 1
A3: =IF(A2=0, "READY TO SUBMIT", "Form is not ready to submit! There " & IF(A2=1, "is ", "are ") & A2 & " remaining field" & IF(A2=1, ".", "s.")) -> Form is not ready to submit! There is 1 remaining field.
A4: Have You Returned a Signed Quote: | C4: . | D4: Quote must be signed and returned before submitting
A5: =COUNTBLANK(B4) -> 1 | B5: . | C5: .
A6: Quote Details | B6: . | C6: .
A7: SAGC quotation#: | C7: . | D7: Quote number will be in the formad SAGCQA1234-1 or SAGCQA1234-1A
A8: Purchase Order/Cost Code#: | C8: . | D8: PO must be provided before continuing
A9: Name: | C9: .
A10: Institute: | C10: .
A11: Submission Date: | C11: .
A12: Email address: | C12: .
A13: Contact Number: | C13: .
A14: =IF(B4="Y",COUNTBLANK(B7:B8),0)+IF(AND(B8<>"",B4="Y"),COUNTBLANK(B9:B13),0) -> 0 | B14: . | C14: .
A15: Library Details | B15: . | C15: .
A16: Library Prep Requested: | C16: . | D16: e.g. mRNA-seq, ChIP-seq, Whole Genome Sequencing, scRNA-seq, Spatial Transcriptomics
A17: =IF(AND(B8<>"",B4="Y"),COUNTBLANK(B16:B16),0) -> 0 | B17: . | C17: . | D17: .
A18: Sample Details | B18: . | C18: . | D18: .
A19: Species: | C19: .
A20: Have you normalized your samples according to the quote guidelines: | C20: . | D20: =IF(B20="N", "Additional charges may apply for un-normalised samples. Please contact SAGC staff.", "")
A21: Have you been quoted for normalisation: | C21: . | D21: =IF(B21="N", "You must get a quote for normalisation. Please contact SAGC staff.", "")
A22: Which quantification method was used to calculate sample quantities: | C22: . | D22: e.g. Nanodrop, Qubit (Qubit preferred):
A23: =IF(AND(B8<>"",B4="Y"),COUNTBLANK(B19:B20)+IF(B20="N",COUNTBLANK(B21),0)+IF(B20="Y",COUNTBLANK(B22),0),0) -> 0 | B23: . | C23: . | D23: .
A24: Ethics: | B24: . | C24: . | D24: .
A25: Do you have ethics approval for these samples: | C25: . | D25: =IF(B25="","Enter NA if ethics not required",IF(B25="N", "We do not accept human samples without ethics aprovals. Please contact SAGC staff.", "")) -> Enter NA if ethics not required
A26: Are the samples De-Identified: | C26: . | D26: =IF(B26="","Enter NA if not required",IF(B26="N", "Human samples must be de-identified. Please contact SAGC staff.", "")) -> Enter NA if not required
A27: Are the samples of Indigenous origin: | C27: . | D27: =IF(B27="","Enter NA if not relevant",IF(B27="Y", "Please contact SAGC staff for special terms regarding indigenous data management and other ethics requirement.", "")) -> Enter NA if not relevant
A28: =IF(AND(B8<>"",B4="Y"),COUNTBLANK(B25)+IF(B25="Y",COUNTBLANK(B26:B27),0),0) -> 0 | B28: . | C28: . | D28: .
A29: Notes: | B29: . | C29: .
A30: Enter Additional Notes Here | C30: . | D30: eg. If quantification method was not one of the options, you can select "other" and provide it here.

Sheet SampleDetails
A1: Please only use alphanumeric characters and "-" or "_" as separators in the Sample Name field below (no spaces or other characters).
A2: When submitting separate aliquots for QC and NGS, please use separate plates.
A4: PLEASE RETURN AN ELECTRONIC COPY + PRINT COMPLETED FORM AND INCLUDE WITH SAMPLE SUBMISSION
A6: PLEASE LABEL PCR PLATE WITH QUOTE NUMBER, DATE AND CLIENT NAME (AS PER THE QUOTE) | H6: *all columns mandatory
A8: Sample Name | B8: Well position | C8: Concentration | D8: Volume | E8: RIN/DIN | F8: Size distribution | G8: Other
A9: ≤ 10 alpha/numeric characters "_" instead of a space No other special characters | C9: (ng/ul) | D9: (ul) | E9: (if known) | F9: (if known)

Sheet Config
A1: Questions | B1: Link | C1: Header | D1: Answers
A2: . | B2: . | C2: form | D2: sample
A3: =sampleSubmissionForm!A4 -> Have You Returned a Signed Quote: | B3: =sampleSubmissionForm!B4 -> 0 | C3: hasSignedQuote | D3: =IF(B3=0,"",B3)
A4: =sampleSubmissionForm!A5 -> 1 | B4: =sampleSubmissionForm!B5 -> .
A5: =sampleSubmissionForm!A6 -> Quote Details | B5: =sampleSubmissionForm!B6 -> .
A6: =sampleSubmissionForm!A7 -> SAGC quotation#: | B6: =sampleSubmissionForm!B7 -> 0 | C6: quote | D6: =IF(B6=0,"",B6)
A7: =sampleSubmissionForm!A8 -> Purchase Order/Cost Code#: | B7: =sampleSubmissionForm!B8 -> 0 | C7: pocc | D7: =IF(B7=0,"",B7)
A8: =sampleSubmissionForm!A9 -> Name: | B8: =sampleSubmissionForm!B9 -> 0 | C8: name | D8: =IF(B8=0,"",B8)
A9: =sampleSubmissionForm!A10 -> Institute: | B9: =sampleSubmissionForm!B10 -> 0 | C9: institute | D9: =IF(B9=0,"",B9)
A10: =sampleSubmissionForm!A11 -> Submission Date: | B10: =sampleSubmissionForm!B11 -> 0 | C10: date | D10: =IF(B10=0,"",B10)
A11: =sampleSubmissionForm!A12 -> Email address: | B11: =sampleSubmissionForm!B12 -> 0 | C11: email | D11: =IF(B11=0,"",B11)
A12: =sampleSubmissionForm!A13 -> Contact Number: | B12: =sampleSubmissionForm!B13 -> 0 | C12: contact | D12: =IF(B12=0,"",B12)
A13: =sampleSubmissionForm!A14 -> 0 | B13: =sampleSubmissionForm!B14 -> .
A14: =sampleSubmissionForm!A15 -> Library Details | B14: =sampleSubmissionForm!B15 -> .
A15: =sampleSubmissionForm!A16 -> Library Prep Requested: | B15: =sampleSubmissionForm!B16 -> 0 | C15: libraryPrepService | D15: =IF(B15=0,"",B15)
A16: =sampleSubmissionForm!A17 -> 0 | B16: =sampleSubmissionForm!B17 -> .
A17: =sampleSubmissionForm!A18 -> Sample Details | B17: =sampleSubmissionForm!B18 -> .
A18: =sampleSubmissionForm!A19 -> Species: | B18: =sampleSubmissionForm!B19 -> 0 | C18: species | D18: =IF(B18=0,"",B18)
A19: =sampleSubmissionForm!A20 -> Have you normalized your samples according to the quote guidelines: | B19: =sampleSubmissionForm!B20 -> 0 | C19: isNormalised | D19: =IF(B19=0,"",B19)
A20: =sampleSubmissionForm!A21 -> Have you been quoted for normalisation: | B20: =IF(B19=0,$A$32,IF(B19="N",sampleSubmissionForm!B21,$A$32)) -> devNA | C20: normQuoted | D20: =IF(B20=0,"",B20) -> devNA
A21: =sampleSubmissionForm!A22 -> Which quantification method was used to calculate sample quantities: | B21: =IF(B19=0,$A$32,IF(B19="Y",sampleSubmissionForm!B22,$A$32)) -> devNA | C21: quantificationMethod | D21: =IF(B21=0,"",B21) -> devNA
A22: =sampleSubmissionForm!A23 -> 0 | B22: =sampleSubmissionForm!B23 -> .
A23: =sampleSubmissionForm!A24 -> Ethics: | B23: =sampleSubmissionForm!B24 -> .
A24: =sampleSubmissionForm!A25 -> Do you have ethics approval for these samples: | B24: =sampleSubmissionForm!B25 -> 0 | C24: hasEthics | D24: =IF(B24=0,"",B24)
A25: =sampleSubmissionForm!A26 -> Are the samples De-Identified: | B25: =sampleSubmissionForm!B26 -> 0 | C25: isDeidentified | D25: =IF(B25=0,"",B25)
A26: =sampleSubmissionForm!A27 -> Are the samples of Indigenous origin: | B26: =sampleSubmissionForm!B27 -> 0 | C26: isIndigenous | D26: =IF(B26=0,"",B26)
A27: =sampleSubmissionForm!A28 -> 0 | B27: =sampleSubmissionForm!B28 -> .
A28: =sampleSubmissionForm!A29 -> Notes: | B28: .
A29: =sampleSubmissionForm!A30 -> Enter Additional Notes Here | B29: =IF(OR(A29="",A29="Enter additional notes here"),"",A29) | C29: clientNotes | D29: =IF(B29=0,"",B29)
A32: devNA

Sheet Samples
B1: Name | C1: Well | D1: Concentration | E1: Volume | F1: RinDin | G1: SizeDist | H1: =SampleDetails!G8 -> Other | J1: A | K1: B | L1: C | M1: D | N1: E | O1: F | P1: G
B2: {=IF(INDIRECT("SampleDetails!"&J$1&$I2)="","",SampleDetails!A10)} | C2: {=IF(INDIRECT("SampleDetails!"&K$1&$I2)="","",SampleDetails!B10)} | D2: {=IF(INDIRECT("SampleDetails!"&L$1&$I2)="","",SampleDetails!C10)} | E2: {=IF(INDIRECT("SampleDetails!"&M$1&$I2)="","",SampleDetails!D10)} | F2: {=IF(INDIRECT("SampleDetails!"&N$1&$I2)="","",SampleDetails!E10)} | G2: {=IF(INDIRECT("SampleDetails!"&O$1&$I2)="","",SampleDetails!F10)} | H2: {=IF(INDIRECT("SampleDetails!"&P$1&$I2)="","",SampleDetails!G10)} | I2: 10
B3: {=IF(INDIRECT("SampleDetails!"&J$1&$I3)="","",SampleDetails!A11)} | C3: {=IF(INDIRECT("SampleDetails!"&K$1&$I3)="","",SampleDetails!B11)} | D3: {=IF(INDIRECT("SampleDetails!"&L$1&$I3)="","",SampleDetails!C11)} | E3: {=IF(INDIRECT("SampleDetails!"&M$1&$I3)="","",SampleDetails!D11)} | F3: {=IF(INDIRECT("SampleDetails!"&N$1&$I3)="","",SampleDetails!E11)} | G3: {=IF(INDIRECT("SampleDetails!"&O$1&$I3)="","",SampleDetails!F11)} | H3: {=IF(INDIRECT("SampleDetails!"&P$1&$I3)="","",SampleDetails!G11)} | I3: 11
B4: {=IF(INDIRECT("SampleDetails!"&J$1&$I4)="","",SampleDetails!A12)} | C4: {=IF(INDIRECT("SampleDetails!"&K$1&$I4)="","",SampleDetails!B12)} | D4: {=IF(INDIRECT("SampleDetails!"&L$1&$I4)="","",SampleDetails!C12)} | E4: {=IF(INDIRECT("SampleDetails!"&M$1&$I4)="","",SampleDetails!D12)} | F4: {=IF(INDIRECT("SampleDetails!"&N$1&$I4)="","",SampleDetails!E12)} | G4: {=IF(INDIRECT("SampleDetails!"&O$1&$I4)="","",SampleDetails!F12)} | H4: {=IF(INDIRECT("SampleDetails!"&P$1&$I4)="","",SampleDetails!G12)} | I4: 12
B5: {=IF(INDIRECT("SampleDetails!"&J$1&$I5)="","",SampleDetails!A13)} | C5: {=IF(INDIRECT("SampleDetails!"&K$1&$I5)="","",SampleDetails!B13)} | D5: {=IF(INDIRECT("SampleDetails!"&L$1&$I5)="","",SampleDetails!C13)} | E5: {=IF(INDIRECT("SampleDetails!"&M$1&$I5)="","",SampleDetails!D13)} | F5: {=IF(INDIRECT("SampleDetails!"&N$1&$I5)="","",SampleDetails!E13)} | G5: {=IF(INDIRECT("SampleDetails!"&O$1&$I5)="","",SampleDetails!F13)} | H5: {=IF(INDIRECT("SampleDetails!"&P$1&$I5)="","",SampleDetails!G13)} | I5: 13
B6: {=IF(INDIRECT("SampleDetails!"&J$1&$I6)="","",SampleDetails!A14)} | C6: {=IF(INDIRECT("SampleDetails!"&K$1&$I6)="","",SampleDetails!B14)} | D6: {=IF(INDIRECT("SampleDetails!"&L$1&$I6)="","",SampleDetails!C14)} | E6: {=IF(INDIRECT("SampleDetails!"&M$1&$I6)="","",SampleDetails!D14)} | F6: {=IF(INDIRECT("SampleDetails!"&N$1&$I6)="","",SampleDetails!E14)} | G6: {=IF(INDIRECT("SampleDetails!"&O$1&$I6)="","",SampleDetails!F14)} | H6: {=IF(INDIRECT("SampleDetails!"&P$1&$I6)="","",SampleDetails!G14)} | I6: 14
B7: {=IF(INDIRECT("SampleDetails!"&J$1&$I7)="","",SampleDetails!A15)} | C7: {=IF(INDIRECT("SampleDetails!"&K$1&$I7)="","",SampleDetails!B15)} | D7: {=IF(INDIRECT("SampleDetails!"&L$1&$I7)="","",SampleDetails!C15)} | E7: {=IF(INDIRECT("SampleDetails!"&M$1&$I7)="","",SampleDetails!D15)} | F7: {=IF(INDIRECT("SampleDetails!"&N$1&$I7)="","",SampleDetails!E15)} | G7: {=IF(INDIRECT("SampleDetails!"&O$1&$I7)="","",SampleDetails!F15)} | H7: {=IF(INDIRECT("SampleDetails!"&P$1&$I7)="","",SampleDetails!G15)} | I7: 15
B8: {=IF(INDIRECT("SampleDetails!"&J$1&$I8)="","",SampleDetails!A16)} | C8: {=IF(INDIRECT("SampleDetails!"&K$1&$I8)="","",SampleDetails!B16)} | D8: {=IF(INDIRECT("SampleDetails!"&L$1&$I8)="","",SampleDetails!C16)} | E8: {=IF(INDIRECT("SampleDetails!"&M$1&$I8)="","",SampleDetails!D16)} | F8: {=IF(INDIRECT("SampleDetails!"&N$1&$I8)="","",SampleDetails!E16)} | G8: {=IF(INDIRECT("SampleDetails!"&O$1&$I8)="","",SampleDetails!F16)} | H8: {=IF(INDIRECT("SampleDetails!"&P$1&$I8)="","",SampleDetails!G16)} | I8: 16
B9: {=IF(INDIRECT("SampleDetails!"&J$1&$I9)="","",SampleDetails!A17)} | C9: {=IF(INDIRECT("SampleDetails!"&K$1&$I9)="","",SampleDetails!B17)} | D9: {=IF(INDIRECT("SampleDetails!"&L$1&$I9)="","",SampleDetails!C17)} | E9: {=IF(INDIRECT("SampleDetails!"&M$1&$I9)="","",SampleDetails!D17)} | F9: {=IF(INDIRECT("SampleDetails!"&N$1&$I9)="","",SampleDetails!E17)} | G9: {=IF(INDIRECT("SampleDetails!"&O$1&$I9)="","",SampleDetails!F17)} | H9: {=IF(INDIRECT("SampleDetails!"&P$1&$I9)="","",SampleDetails!G17)} | I9: 17
B10: {=IF(INDIRECT("SampleDetails!"&J$1&$I10)="","",SampleDetails!A18)} | C10: {=IF(INDIRECT("SampleDetails!"&K$1&$I10)="","",SampleDetails!B18)} | D10: {=IF(INDIRECT("SampleDetails!"&L$1&$I10)="","",SampleDetails!C18)} | E10: {=IF(INDIRECT("SampleDetails!"&M$1&$I10)="","",SampleDetails!D18)} | F10: {=IF(INDIRECT("SampleDetails!"&N$1&$I10)="","",SampleDetails!E18)} | G10: {=IF(INDIRECT("SampleDetails!"&O$1&$I10)="","",SampleDetails!F18)} | H10: {=IF(INDIRECT("SampleDetails!"&P$1&$I10)="","",SampleDetails!G18)} | I10: 18
B11: {=IF(INDIRECT("SampleDetails!"&J$1&$I11)="","",SampleDetails!A19)} | C11: {=IF(INDIRECT("SampleDetails!"&K$1&$I11)="","",SampleDetails!B19)} | D11: {=IF(INDIRECT("SampleDetails!"&L$1&$I11)="","",SampleDetails!C19)} | E11: {=IF(INDIRECT("SampleDetails!"&M$1&$I11)="","",SampleDetails!D19)} | F11: {=IF(INDIRECT("SampleDetails!"&N$1&$I11)="","",SampleDetails!E19)} | G11: {=IF(INDIRECT("SampleDetails!"&O$1&$I11)="","",SampleDetails!F19)} | H11: {=IF(INDIRECT("SampleDetails!"&P$1&$I11)="","",SampleDetails!G19)} | I11: 19
B12: {=IF(INDIRECT("SampleDetails!"&J$1&$I12)="","",SampleDetails!A20)} | C12: {=IF(INDIRECT("SampleDetails!"&K$1&$I12)="","",SampleDetails!B20)} | D12: {=IF(INDIRECT("SampleDetails!"&L$1&$I12)="","",SampleDetails!C20)} | E12: {=IF(INDIRECT("SampleDetails!"&M$1&$I12)="","",SampleDetails!D20)} | F12: {=IF(INDIRECT("SampleDetails!"&N$1&$I12)="","",SampleDetails!E20)} | G12: {=IF(INDIRECT("SampleDetails!"&O$1&$I12)="","",SampleDetails!F20)} | H12: {=IF(INDIRECT("SampleDetails!"&P$1&$I12)="","",SampleDetails!G20)} | I12: 20
B13: {=IF(INDIRECT("SampleDetails!"&J$1&$I13)="","",SampleDetails!A21)} | C13: {=IF(INDIRECT("SampleDetails!"&K$1&$I13)="","",SampleDetails!B21)} | D13: {=IF(INDIRECT("SampleDetails!"&L$1&$I13)="","",SampleDetails!C21)} | E13: {=IF(INDIRECT("SampleDetails!"&M$1&$I13)="","",SampleDetails!D21)} | F13: {=IF(INDIRECT("SampleDetails!"&N$1&$I13)="","",SampleDetails!E21)} | G13: {=IF(INDIRECT("SampleDetails!"&O$1&$I13)="","",SampleDetails!F21)} | H13: {=IF(INDIRECT("SampleDetails!"&P$1&$I13)="","",SampleDetails!G21)} | I13: 21
... B101: {=IF(INDIRECT("SampleDetails!"&J$1&$I101)="","",SampleDetails!A109)} | C101: {=IF(INDIRECT("SampleDetails!"&K$1&$I101)="","",SampleDetails!B109)} | D101: {=IF(INDIRECT("SampleDetails!"&L$1&$I101)="","",SampleDetails!C109)} | E101: {=IF(INDIRECT("SampleDetails!"&M$1&$I101)="","",SampleDetails!D109)} | F101: {=IF(INDIRECT("SampleDetails!"&N$1&$I101)="","",SampleDetails!E109)} | G101: {=IF(INDIRECT("SampleDetails!"&O$1&$I101)="","",SampleDetails!F109)} | H101: {=IF(INDIRECT("SampleDetails!"&P$1&$I101)="","",SampleDetails!G109)} | I101: 109
B102: {=IF(INDIRECT("SampleDetails!"&J$1&$I102)="","",SampleDetails!B110)} | C102: {=IF(INDIRECT("SampleDetails!"&K$1&$I102)="","",SampleDetails!C110)} | D102: {=IF(INDIRECT("SampleDetails!"&L$1&$I102)="","",SampleDetails!D110)} | E102: {=IF(INDIRECT("SampleDetails!"&M$1&$I102)="","",SampleDetails!E110)} | F102: {=IF(INDIRECT("SampleDetails!"&N$1&$I102)="","",SampleDetails!F110)} | G102: {=IF(INDIRECT("SampleDetails!"&O$1&$I102)="","",SampleDetails!G110)} | H102: {=IF(INDIRECT("SampleDetails!"&P$1&$I102)="","",SampleDetails!H110)} | I102: 110
B103: {=IF(INDIRECT("SampleDetails!"&J$1&$I103)="","",SampleDetails!B111)} | C103: {=IF(INDIRECT("SampleDetails!"&K$1&$I103)="","",SampleDetails!C111)} | D103: {=IF(INDIRECT("SampleDetails!"&L$1&$I103)="","",SampleDetails!D111)} | E103: {=IF(INDIRECT("SampleDetails!"&M$1&$I103)="","",SampleDetails!E111)} | F103: {=IF(INDIRECT("SampleDetails!"&N$1&$I103)="","",SampleDetails!F111)} | G103: {=IF(INDIRECT("SampleDetails!"&O$1&$I103)="","",SampleDetails!G111)} | H103: {=IF(INDIRECT("SampleDetails!"&P$1&$I103)="","",SampleDetails!H111)} | I103: 111
B104: {=IF(INDIRECT("SampleDetails!"&J$1&$I104)="","",SampleDetails!B112)} | C104: {=IF(INDIRECT("SampleDetails!"&K$1&$I104)="","",SampleDetails!C112)} | D104: {=IF(INDIRECT("SampleDetails!"&L$1&$I104)="","",SampleDetails!D112)} | E104: {=IF(INDIRECT("SampleDetails!"&M$1&$I104)="","",SampleDetails!E112)} | F104: {=IF(INDIRECT("SampleDetails!"&N$1&$I104)="","",SampleDetails!F112)} | G104: {=IF(INDIRECT("SampleDetails!"&O$1&$I104)="","",SampleDetails!G112)} | H104: {=IF(INDIRECT("SampleDetails!"&P$1&$I104)="","",SampleDetails!H112)} | I104: 112
B105: {=IF(INDIRECT("SampleDetails!"&J$1&$I105)="","",SampleDetails!B113)} | C105: {=IF(INDIRECT("SampleDetails!"&K$1&$I105)="","",SampleDetails!C113)} | D105: {=IF(INDIRECT("SampleDetails!"&L$1&$I105)="","",SampleDetails!D113)} | E105: {=IF(INDIRECT("SampleDetails!"&M$1&$I105)="","",SampleDetails!E113)} | F105: {=IF(INDIRECT("SampleDetails!"&N$1&$I105)="","",SampleDetails!F113)} | G105: {=IF(INDIRECT("SampleDetails!"&O$1&$I105)="","",SampleDetails!G113)} | H105: {=IF(INDIRECT("SampleDetails!"&P$1&$I105)="","",SampleDetails!H113)} | I105: 113
B106: {=IF(INDIRECT("SampleDetails!"&J$1&$I106)="","",SampleDetails!B114)} | C106: {=IF(INDIRECT("SampleDetails!"&K$1&$I106)="","",SampleDetails!C114)} | D106: {=IF(INDIRECT("SampleDetails!"&L$1&$I106)="","",SampleDetails!D114)} | E106: {=IF(INDIRECT("SampleDetails!"&M$1&$I106)="","",SampleDetails!E114)} | F106: {=IF(INDIRECT("SampleDetails!"&N$1&$I106)="","",SampleDetails!F114)} | G106: {=IF(INDIRECT("SampleDetails!"&O$1&$I106)="","",SampleDetails!G114)} | H106: {=IF(INDIRECT("SampleDetails!"&P$1&$I106)="","",SampleDetails!H114)} | I106: 114
B107: {=IF(INDIRECT("SampleDetails!"&J$1&$I107)="","",SampleDetails!B115)} | C107: {=IF(INDIRECT("SampleDetails!"&K$1&$I107)="","",SampleDetails!C115)} | D107: {=IF(INDIRECT("SampleDetails!"&L$1&$I107)="","",SampleDetails!D115)} | E107: {=IF(INDIRECT("SampleDetails!"&M$1&$I107)="","",SampleDetails!E115)} | F107: {=IF(INDIRECT("SampleDetails!"&N$1&$I107)="","",SampleDetails!F115)} | G107: {=IF(INDIRECT("SampleDetails!"&O$1&$I107)="","",SampleDetails!G115)} | H107: {=IF(INDIRECT("SampleDetails!"&P$1&$I107)="","",SampleDetails!H115)} | I107: 115
B108: {=IF(INDIRECT("SampleDetails!"&J$1&$I108)="","",SampleDetails!B116)} | C108: {=IF(INDIRECT("SampleDetails!"&K$1&$I108)="","",SampleDetails!C116)} | D108: {=IF(INDIRECT("SampleDetails!"&L$1&$I108)="","",SampleDetails!D116)} | E108: {=IF(INDIRECT("SampleDetails!"&M$1&$I108)="","",SampleDetails!E116)} | F108: {=IF(INDIRECT("SampleDetails!"&N$1&$I108)="","",SampleDetails!F116)} | G108: {=IF(INDIRECT("SampleDetails!"&O$1&$I108)="","",SampleDetails!G116)} | H108: {=IF(INDIRECT("SampleDetails!"&P$1&$I108)="","",SampleDetails!H116)} | I108: 116
B109: {=IF(INDIRECT("SampleDetails!"&J$1&$I109)="","",SampleDetails!B117)} | C109: {=IF(INDIRECT("SampleDetails!"&K$1&$I109)="","",SampleDetails!C117)} | D109: {=IF(INDIRECT("SampleDetails!"&L$1&$I109)="","",SampleDetails!D117)} | E109: {=IF(INDIRECT("SampleDetails!"&M$1&$I109)="","",SampleDetails!E117)} | F109: {=IF(INDIRECT("SampleDetails!"&N$1&$I109)="","",SampleDetails!F117)} | G109: {=IF(INDIRECT("SampleDetails!"&O$1&$I109)="","",SampleDetails!G117)} | H109: {=IF(INDIRECT("SampleDetails!"&P$1&$I109)="","",SampleDetails!H117)} | I109: 117
B110: {=IF(INDIRECT("SampleDetails!"&J$1&$I110)="","",SampleDetails!B118)} | C110: {=IF(INDIRECT("SampleDetails!"&K$1&$I110)="","",SampleDetails!C118)} | D110: {=IF(INDIRECT("SampleDetails!"&L$1&$I110)="","",SampleDetails!D118)} | E110: {=IF(INDIRECT("SampleDetails!"&M$1&$I110)="","",SampleDetails!E118)} | F110: {=IF(INDIRECT("SampleDetails!"&N$1&$I110)="","",SampleDetails!F118)} | G110: {=IF(INDIRECT("SampleDetails!"&O$1&$I110)="","",SampleDetails!G118)} | H110: {=IF(INDIRECT("SampleDetails!"&P$1&$I110)="","",SampleDetails!H118)} | I110: 118
B111: {=IF(INDIRECT("SampleDetails!"&J$1&$I111)="","",SampleDetails!B119)} | C111: {=IF(INDIRECT("SampleDetails!"&K$1&$I111)="","",SampleDetails!C119)} | D111: {=IF(INDIRECT("SampleDetails!"&L$1&$I111)="","",SampleDetails!D119)} | E111: {=IF(INDIRECT("SampleDetails!"&M$1&$I111)="","",SampleDetails!E119)} | F111: {=IF(INDIRECT("SampleDetails!"&N$1&$I111)="","",SampleDetails!F119)} | G111: {=IF(INDIRECT("SampleDetails!"&O$1&$I111)="","",SampleDetails!G119)} | H111: {=IF(INDIRECT("SampleDetails!"&P$1&$I111)="","",SampleDetails!H119)} | I111: 119
B112: {=IF(INDIRECT("SampleDetails!"&J$1&$I112)="","",SampleDetails!B120)} | C112: {=IF(INDIRECT("SampleDetails!"&K$1&$I112)="","",SampleDetails!C120)} | D112: {=IF(INDIRECT("SampleDetails!"&L$1&$I112)="","",SampleDetails!D120)} | E112: {=IF(INDIRECT("SampleDetails!"&M$1&$I112)="","",SampleDetails!E120)} | F112: {=IF(INDIRECT("SampleDetails!"&N$1&$I112)="","",SampleDetails!F120)} | G112: {=IF(INDIRECT("SampleDetails!"&O$1&$I112)="","",SampleDetails!G120)} | H112: {=IF(INDIRECT("SampleDetails!"&P$1&$I112)="","",SampleDetails!H120)} | I112: 120
B113: {=IF(INDIRECT("SampleDetails!"&J$1&$I113)="","",SampleDetails!B121)} | C113: {=IF(INDIRECT("SampleDetails!"&K$1&$I113)="","",SampleDetails!C121)} | D113: {=IF(INDIRECT("SampleDetails!"&L$1&$I113)="","",SampleDetails!D121)} | E113: {=IF(INDIRECT("SampleDetails!"&M$1&$I113)="","",SampleDetails!E121)} | F113: {=IF(INDIRECT("SampleDetails!"&N$1&$I113)="","",SampleDetails!F121)} | G113: {=IF(INDIRECT("SampleDetails!"&O$1&$I113)="","",SampleDetails!G121)} | H113: {=IF(INDIRECT("SampleDetails!"&P$1&$I113)="","",SampleDetails!H121)} | I113: 121
... B500: {=IF(INDIRECT("SampleDetails!"&J$1&$I500)="","",SampleDetails!B508)} | C500: {=IF(INDIRECT("SampleDetails!"&K$1&$I500)="","",SampleDetails!C508)} | D500: {=IF(INDIRECT("SampleDetails!"&L$1&$I500)="","",SampleDetails!D508)} | E500: {=IF(INDIRECT("SampleDetails!"&M$1&$I500)="","",SampleDetails!E508)} | F500: {=IF(INDIRECT("SampleDetails!"&N$1&$I500)="","",SampleDetails!F508)} | G500: {=IF(INDIRECT("SampleDetails!"&O$1&$I500)="","",SampleDetails!G508)} | H500: {=IF(INDIRECT("SampleDetails!"&P$1&$I500)="","",SampleDetails!H508)} | I500: 508

Sheet validation
G1: NA | H1: MGI_G400 | I1: MGI_T7 | J1: miseq | K1: miseq_i100 | L1: cycles | M1: lanes | N1: library prep service | O1: library prep kit | P1: quantification method
H2: G400_flowcells | I2: T7_flowcells | J2: miseq_flowcells | K2: i100_flowcells | L2: PE75 (150 cycles) | M2: 1 | P2: Qubit
H3: G400_lanes | I3: T7_lanes | J3: miseq_lanes | K3: i100_lanes | L3: PE100 (200 cycles) | M3: 2 | P3: Nanodrop
L4: PE150 (300 cycles) | M4: 3
L5: PE200 (400 cycles) | M5: 4
L6: PE300 (600 cycles)
L7: PE500 (1000 cycles)
H12: MGI_G400_flowcells | I12: MGI_T7_flowcells | J12: miseq_flowcells | K12: i100_flowcells
H13: FCL | I13: FCL | J13: V1 | K13: iV1
H14: other | I14: other | J14: V2 | K14: iV2
J15: V3 | K15: iV3
H19: MGI_G400_lanes | I19: MGI_T7_lanes | J19: miseq_lanes | K19: i100_lanes
H20: 1 | I20: 1 | J20: 1 | K20: 1
H21: 2
H22: 3
H23: 4

Sheet Meta
A1: version | B1: 2.4
